BEGIN:VCALENDAR
VERSION:2.0
PRODID:-//Brahman Samaj Nepal - ECPv6.15.20//NONSGML v1.0//EN
CALSCALE:GREGORIAN
METHOD:PUBLISH
X-WR-CALNAME:Brahman Samaj Nepal
X-ORIGINAL-URL:https://www.brahmansamajnepal.org
X-WR-CALDESC:Events for Brahman Samaj Nepal
REFRESH-INTERVAL;VALUE=DURATION:PT1H
X-Robots-Tag:noindex
X-PUBLISHED-TTL:PT1H
BEGIN:VTIMEZONE
TZID:Asia/Kathmandu
BEGIN:STANDARD
TZOFFSETFROM:+0545
TZOFFSETTO:+0545
TZNAME:+0545
DTSTART:20250101T000000
END:STANDARD
END:VTIMEZONE
BEGIN:VEVENT
DTSTART;TZID=Asia/Kathmandu:20260428T110000
DTEND;TZID=Asia/Kathmandu:20260429T140000
DTSTAMP:20260423T101837
CREATED:20260422T080951Z
LAST-MODIFIED:20260422T080951Z
UID:797-1777374000-1777471200@www.brahmansamajnepal.org
SUMMARY:वार्षिक साधारण सभा २०८३
DESCRIPTION:ब्राह्मण समाज नेपालद्वारा आयोजना गरिएको वार्षिक साधारण सभा कार्यक्रममा सम्पूर्ण सदस्यज्यूहरूलाई हार्दिक निमन्त्रणा छ। यस कार्यक्रममा संस्थाको वार्षिक प्रतिवेदन प्रस्तुत गरिनेछ\, आगामी योजना बारे छलफल हुनेछ तथा समाजको विकासका लागि महत्वपूर्ण निर्णयहरू गरिनेछन्।
URL:https://www.brahmansamajnepal.org/event/%e0%a4%b5%e0%a4%be%e0%a4%b0%e0%a5%8d%e0%a4%b7%e0%a4%bf%e0%a4%95-%e0%a4%b8%e0%a4%be%e0%a4%a7%e0%a4%be%e0%a4%b0%e0%a4%a3-%e0%a4%b8%e0%a4%ad%e0%a4%be-%e0%a5%a8%e0%a5%a6%e0%a5%ae%e0%a5%a9/
LOCATION:ब्राह्मण समाज नेपाल मुख्य सम्पर्क कार्यालय\, काठमाडौं महानगरपालिका\, Kathmandu\, Bagmati Province\, Nepal
END:VEVENT
END:VCALENDAR